BEGIN:VCALENDAR
VERSION:2.0
PRODID:-//SFC | FTC - ECPv6.15.19//NONSGML v1.0//EN
CALSCALE:GREGORIAN
METHOD:PUBLISH
X-ORIGINAL-URL:https://www.sfc-ftc.ca
X-WR-CALDESC:Events for SFC | FTC
REFRESH-INTERVAL;VALUE=DURATION:PT1H
X-Robots-Tag:noindex
X-PUBLISHED-TTL:PT1H
BEGIN:VTIMEZONE
TZID:America/Toronto
BEGIN:DAYLIGHT
TZOFFSETFROM:-0500
TZOFFSETTO:-0400
TZNAME:EDT
DTSTART:20250309T070000
END:DAYLIGHT
BEGIN:STANDARD
TZOFFSETFROM:-0400
TZOFFSETTO:-0500
TZNAME:EST
DTSTART:20251102T060000
END:STANDARD
BEGIN:DAYLIGHT
TZOFFSETFROM:-0500
TZOFFSETTO:-0400
TZNAME:EDT
DTSTART:20260308T070000
END:DAYLIGHT
BEGIN:STANDARD
TZOFFSETFROM:-0400
TZOFFSETTO:-0500
TZNAME:EST
DTSTART:20261101T060000
END:STANDARD
BEGIN:DAYLIGHT
TZOFFSETFROM:-0500
TZOFFSETTO:-0400
TZNAME:EDT
DTSTART:20270314T070000
END:DAYLIGHT
BEGIN:STANDARD
TZOFFSETFROM:-0400
TZOFFSETTO:-0500
TZNAME:EST
DTSTART:20271107T060000
END:STANDARD
END:VTIMEZONE
BEGIN:VEVENT
DTSTART;VALUE=DATE:20260805
DTEND;VALUE=DATE:20260810
DTSTAMP:20260423T140602
CREATED:20260308T181818Z
LAST-MODIFIED:20260408T220640Z
UID:10000038-1785888000-1786319999@www.sfc-ftc.ca
SUMMARY:SFC SKEET National Championships
DESCRIPTION:Ontario Olympic Trapshooting Association is partnering with SFC to plan and host the Skeet 2026 National Championships at the Toronto International Sport Shooting Centre (TISSC) in Cookstown\, Ontario. \nThe Toronto International Sports Shooting Centre is a Pan Am Legacy facility and is designated by the Shooting Federation of Canada as a National Training and High-Performance Centre. These world class fields are an ideal location to host Canada’s national shotgun championships\, and the organizing committee is committed to delivering a professionally run event. \nPlease review the Match Program for complete details including location\, accommodations\, event schedule\, awards and Letters of Invitation. \nMatch Program    EN      FR\nSchedule of Events  \nMonday\, August 3                            Open Training \nTuesday\, August 4                             Open Training \nWednesday\, August 5                       PET (Squadded – 3 rounds) \nThursday\, August 6                            75 Targets \nFriday\, August 7                                 50 Targets (Meeting/Social & Dinner) \nSaturday\, August 8                           75 Targets \nSunday\, August 9                              50 Targets\, plus Finals \n  \nSFC Membership is required for registration.\nREGISTRATION DEADLINE: Monday\, July 20\, 2026. at 1pm EST\nWe hope to see you at the event!\n 
URL:https://www.sfc-ftc.ca/event/sfc-national-championship-skeet-reg/
LOCATION:Toronto International Trap & Skeet Club\, 5206 5TH Side Road\, Cookstown\, Ontario\, L0L 1L0\, Canada
CATEGORIES:Competition
ORGANIZER;CN="SFC - FTC":MAILTO:admin@sfc-ftc.ca
END:VEVENT
END:VCALENDAR