BEGIN:VCALENDAR
VERSION:2.0
PRODID:-//SFC | FTC - ECPv6.15.19//NONSGML v1.0//EN
CALSCALE:GREGORIAN
METHOD:PUBLISH
X-ORIGINAL-URL:https://www.sfc-ftc.ca
X-WR-CALDESC:Events for SFC | FTC
REFRESH-INTERVAL;VALUE=DURATION:PT1H
X-Robots-Tag:noindex
X-PUBLISHED-TTL:PT1H
BEGIN:VTIMEZONE
TZID:America/Toronto
BEGIN:DAYLIGHT
TZOFFSETFROM:-0500
TZOFFSETTO:-0400
TZNAME:EDT
DTSTART:20250309T070000
END:DAYLIGHT
BEGIN:STANDARD
TZOFFSETFROM:-0400
TZOFFSETTO:-0500
TZNAME:EST
DTSTART:20251102T060000
END:STANDARD
BEGIN:DAYLIGHT
TZOFFSETFROM:-0500
TZOFFSETTO:-0400
TZNAME:EDT
DTSTART:20260308T070000
END:DAYLIGHT
BEGIN:STANDARD
TZOFFSETFROM:-0400
TZOFFSETTO:-0500
TZNAME:EST
DTSTART:20261101T060000
END:STANDARD
BEGIN:DAYLIGHT
TZOFFSETFROM:-0500
TZOFFSETTO:-0400
TZNAME:EDT
DTSTART:20270314T070000
END:DAYLIGHT
BEGIN:STANDARD
TZOFFSETFROM:-0400
TZOFFSETTO:-0500
TZNAME:EST
DTSTART:20271107T060000
END:STANDARD
END:VTIMEZONE
BEGIN:VTIMEZONE
TZID:America/Edmonton
BEGIN:DAYLIGHT
TZOFFSETFROM:-0700
TZOFFSETTO:-0600
TZNAME:MDT
DTSTART:20250309T090000
END:DAYLIGHT
BEGIN:STANDARD
TZOFFSETFROM:-0600
TZOFFSETTO:-0700
TZNAME:MST
DTSTART:20251102T080000
END:STANDARD
BEGIN:DAYLIGHT
TZOFFSETFROM:-0700
TZOFFSETTO:-0600
TZNAME:MDT
DTSTART:20260308T090000
END:DAYLIGHT
BEGIN:STANDARD
TZOFFSETFROM:-0600
TZOFFSETTO:-0700
TZNAME:MST
DTSTART:20261101T080000
END:STANDARD
BEGIN:DAYLIGHT
TZOFFSETFROM:-0700
TZOFFSETTO:-0600
TZNAME:MDT
DTSTART:20270314T090000
END:DAYLIGHT
BEGIN:STANDARD
TZOFFSETFROM:-0600
TZOFFSETTO:-0700
TZNAME:MST
DTSTART:20271107T080000
END:STANDARD
END:VTIMEZONE
BEGIN:VEVENT
DTSTART;VALUE=DATE:20260410
DTEND;VALUE=DATE:20260413
DTSTAMP:20260423T184542
CREATED:20260318T194526Z
LAST-MODIFIED:20260408T215956Z
UID:10000042-1775779200-1776038399@www.sfc-ftc.ca
SUMMARY:Quebec Provincial Shooting Championships
DESCRIPTION:PROVINCIAL SHOOTING CHAMPIONSHIP  \nAIR PISTOL AND AIR RIFLE  \nApril 10-12th 2026 \nDISCIPLINES : 10m Air pistol : 2 matchs x 60 shots  \n10m Air rifle : 2 matchs x 60 shots  \nCOST: Adult – $75.00 Juniors (21 years old of less) -$50.00 \n\n\n\nCHOICES OF RELAYS : Friday April 10 2026 \nSaturday April 11 2026 \nSunday April 12 2026 \n\n\nRelay 1 – 7 pm \nRelay 2 – 9 am \nRelay 7 – 9 am \n\n\nRelay 3 – 11 am \nRelay 8 – 11 am \n\n\nRelay 4 – 1 pm \nRelay 9 – 1 pm \n\n\nRelay 5 – 3 pm \nRifle Finals – 3 pm \n\n\nRelay 6 – 5 pm \nPistol Finals – 4 pm \n\n\n\n  \nMore Information including registration links available HERE
URL:https://www.sfc-ftc.ca/event/quebec-provincial-shooting-championships/
LOCATION:Club sportif de la Mauricie\, 1500 Rte Bradley\, Trois-Rivières\, Quebec\, G8V 2J6\, Canada
END:VEVENT
BEGIN:VEVENT
DTSTART;VALUE=DATE:20260410
DTEND;VALUE=DATE:20260413
DTSTAMP:20260423T184542
CREATED:20260325T181050Z
LAST-MODIFIED:20260325T181050Z
UID:10000044-1775779200-1776038399@www.sfc-ftc.ca
SUMMARY:Saskatoon’s “Ten Point Nine” Air Gun Competition
DESCRIPTION:Saskatoon “Ten Point Nine” Air Gun CompetitionApril 10–12\, 2026 \nJoin us in Saskatoon for the “Ten Point Nine” Air Gun Competition\, hosted at the Saskatoon Wildlife Federation. This event will feature air pistol and air rifle competitions following SFC and ISSF rules\, with SFC classifications in use. \nAthletes will compete in two 60-shot relays (120 shots total)\, with aggregate scores determining the top eight competitors advancing to finals. Finals will take place on Sunday and will determine the overall winners in each category. \nShooters must be members of their respective provincial organizations\, and all equipment must meet ISSF specifications. \nEVENT DETAILSLocation: Saskatoon Wildlife Federation (Central Ave & McOrmond Dr.)Range: 27 Megalink electronic targets \nFINALS SCHEDULE – Sunday9:00 am – Top 8 Men Air Pistol10:00 am – Top 8 Women Air Pistol11:00 am – Top 8 Men Air Rifle12:00 pm – Top 8 Women Air Rifle \nAWARDSMatch and Finals winners will receive custom trophies. Supported shooters and sub-juniors will receive medals\, and “10.9” coins will be awarded for all recorded 10.9 scores. \nFor more information\, please view the event flyer.
URL:https://www.sfc-ftc.ca/event/saskatoons-ten-point-nine-air-gun-competition/
LOCATION:Saskatoon Wildlife Federation\, Range Road 3050\, Saskatoon\, Saskatchewan\, S7S 1N8\, Canada
ORGANIZER;CN="Saskatoon Wildlife Federation":MAILTO:saskatoonjrtargetshooting@gmail.com
END:VEVENT
BEGIN:VEVENT
DTSTART;VALUE=DATE:20260419
DTEND;VALUE=DATE:20260420
DTSTAMP:20260423T184542
CREATED:20260325T224351Z
LAST-MODIFIED:20260325T230546Z
UID:10000045-1776556800-1776643199@www.sfc-ftc.ca
SUMMARY:Coast to Coast Olympic Trap Shoot Competition
DESCRIPTION:Coast to Coast Olympic Trap Shoot\nThe Vancouver Gun Club will be hosting the Coast to Coast Olympic Trap Shoot on Sunday\, April 19\, 2026. This event offers athletes the opportunity to compete in Olympic trap shooting in a structured and competitive setting. \nEvent Details: \n\nStart Time: 10:00 AM\nFormat: 75 targets plus finals\nCapacity: Maximum of 24 shooters\n\nRegistration:Participants can register online through the Vancouver Gun Club website under “Events” → “Olympic Trap Shoot.” \n\nRegister before April 15: $50\nRegister after April 15: $60\nFinal registration deadline: April 17\, 2026\n\nPlease note that space is limited. The first 15 registered and paid participants will be entered into a prize draw. \nFor more information check out the flyer\, and to register\, please visit: www.vancouvergunclub.ca
URL:https://www.sfc-ftc.ca/event/coast-to-coast-olympic-trap-shoot/
LOCATION:Vancouver Gun Club\, Canada
ORGANIZER;CN="Vancouver Gun Club":MAILTO:info@vancouvergunclub.ca
GEO:49.159967645843;-123.07987950997
END:VEVENT
BEGIN:VEVENT
DTSTART;VALUE=DATE:20260501
DTEND;VALUE=DATE:20260504
DTSTAMP:20260423T184542
CREATED:20260309T124848Z
LAST-MODIFIED:20260407T204356Z
UID:10000039-1777593600-1777852799@www.sfc-ftc.ca
SUMMARY:Maple Leaf Open
DESCRIPTION:Alberta Handgun Association is hosting an Air Gun event the first weekend of May. \nThere are both Rifle and Pistol events as well as a Mixed Team available. \nFor More Information CLICK HERE
URL:https://www.sfc-ftc.ca/event/maple-leaf-open/
LOCATION:Airdrie Curling Club\, 275 Jensen Dr NE\, Airdrie\, Alberta\, T4B 0G2\, Canada
END:VEVENT
BEGIN:VEVENT
DTSTART;TZID=America/Edmonton:20260505T190000
DTEND;TZID=America/Edmonton:20260505T210000
DTSTAMP:20260423T184542
CREATED:20260330T210343Z
LAST-MODIFIED:20260406T195946Z
UID:10000046-1778007600-1778014800@www.sfc-ftc.ca
SUMMARY:Coaching Course - IB Rifle
DESCRIPTION:Offered 3 Consecutive Tuesday evenings\nMay 5th\, 12th & 19th\nThe course will require pre-reading & pre-work \nDetails and Fees: \nInstructor Beginner Rifle course for three evenings 7pm to 9pm (approximately) MDT  \nTuesdays  –  May 5th\, 12th 19th   2026 \nMust attend all three sessions. \n\n$150 (plus processing fees) for the course and the manual \nNote – Course is only available to SFC members  \n\nCourse material will be available once payment has been processed\, and reading & assignments must be done before course commences. \nRegistration Deadline April 27th 2026 \nAdditional information: \nThis  workshop is tailored for coaches of athletes who wish to equip themselves with fundamental shooting coaching knowledge. The workshop focuses on planning\, safety\, basic teaching and learning theory\, as well as preparing coaches to analyze shooting skills. Trainees have to complete exercises and read some part of their manual between sessions. \nAn in-person session (3 hours) with a facilitator is required for the final evaluation. (There will be a $75 fee for evaluation).
URL:https://www.sfc-ftc.ca/event/coaching-course-ib-rifle-3/
CATEGORIES:Coaching Courses
ORGANIZER;CN="SFC - FTC":MAILTO:admin@sfc-ftc.ca
LOCATION:https://www.sfc-ftc.ca/event/coaching-course-ib-rifle-3/
END:VEVENT
BEGIN:VEVENT
DTSTART;TZID=America/Toronto:20260508T100000
DTEND;TZID=America/Toronto:20260510T220000
DTSTAMP:20260423T184542
CREATED:20251215T140024Z
LAST-MODIFIED:20260115T213300Z
UID:10000005-1778234400-1778450400@www.sfc-ftc.ca
SUMMARY:44th Annual Canadian Airgun Grand Prix
DESCRIPTION:May 8\, 9 & 10\, 2026 \nPAN AM Shooting Range\, Cookstown\, Ontario \nEVENT PROGRAM \nThe CAGP Event Program contains important information. Please click here to view or download the program. \nJoin in on the excitement of participating at one of the largest international airgun competitions in North America! \nClick here to Register Now\nDeadline: You MUST register online BEFORE Wednesday\, April 29\, 2026 \nOn behalf of the Shooting Federation of Canada\, the Canadian Airgun Sports Association and the Organizing Committee\, we are pleased to invite you to participate in the 44th Annual Canadian Airgun Grand Prix on May 8\, 9 & 10\, 2026 at the Pan Am Shooting Range\, in Cookstown\, Ontario\, Canada. \n\n50 position range using Megalink electronic targets\nCanadian ‘Qualifying Score’ event\nEvents run in accordance with ISSF rules (See below for more details)\nAll participants must be members of the SFC or their respective National Federation\nRegistration is limited to 184\, so register early\nEach athlete will shoot in TWO relays. During registration athletes will select the 2 relays they wish to shoot in based on availability at time of registration.\n(Note that the organizers reserve right to make any changes necessary to accompany shooters in extenuating circumstances).\n\n\nSCHEDULE OF EVENTS \n\n\n\n\nFriday\, May 8:\n10:00 am – 6:30 pm\nRegistration & Equipment Control\n\n\n\n12:00 noon – 4:00 pm\nPractice\n\n\n\n5:30 pm start\nRelay 1\n\n\nSaturday\, May 9:\n7:30 am – 1:00 pm\nRegistration & Equipment Control\n\n\n\n8:00 am start\nRelay 2\n\n\n\n10:00 am start\nRelay 3\n\n\n\n1:00 pm start\nRelay 4\n\n\n\n3:00 pm start\nRelay 5\n\n\n\n5:00 pm start\nRelay 6\n\n\nSunday\, May 10:\n8:00 am start\nRelay 7\n\n\n\n10:00 am start\nRelay 8\n\n\nFINALS\n1:00 pm start\nFinal – Men’s and Women’s Air Rifle\n\n\n\n3:00 pm start\nFinal – Men’s and Women’s Air Pistol\n\n\n\nAwards Ceremonies\nWill start approx. 20 minutes after last relay\nfor finals has been completed.\n\n\n\n\nENTRY FEES: \nSenior Entry Fees (or Juniors competing in Classification Category): \nISSF Pistol – $225.00 CDN\nISSF Rifle – $225.00 CDN \nJunior Entry Fees: (age 21 and under): \nISSF Pistol – $175.00 CDN\nISSF Rifle – $175.00 CDN \nDon’t miss the Event Updates: Click here to visit our Facebook Page and follow us for updates and reminders. \nIMPORTANT – ISSF RULES IN EFFECT FOR CAGP 2026  \nThe Canadian Airgun Grand Prix (CAGP) is a Shooting Federation of Canada (SFC) sanctioned event and will be conducted under the previous ISSF rules currently in use\, NOT the new ISSF rules effective January 1\, 2026. \nSFC has advised that domestic SFC sanctioned events will continue to operate under the existing rules during the transition to the 2026 ISSF Rulebook\, unless otherwise specified. \nAthletes are responsible for ensuring their equipment and clothing comply with the applicable rules. \nFor more information\, please refer to the SFC guidance on rules and competitions located here. \n  \nClick here to Register Now\nFor additional information\, please e-mail: admin@sfc-ftc.ca or CdnGrandPrix@gmail.com
URL:https://www.sfc-ftc.ca/event/44th-annual-canadian-airgun-grand-prix/
LOCATION:Toronto International Trap & Skeet Club\, 5206 5TH Side Road\, Cookstown\, Ontario\, L0L 1L0\, Canada
CATEGORIES:Competition
END:VEVENT
BEGIN:VEVENT
DTSTART;TZID=America/Toronto:20260525T190000
DTEND;TZID=America/Toronto:20260525T200000
DTSTAMP:20260423T184542
CREATED:20260125T180652Z
LAST-MODIFIED:20260125T180652Z
UID:10000023-1779735600-1779739200@www.sfc-ftc.ca
SUMMARY:SFC Officials Annual Information Session
DESCRIPTION:Join the National Officials Committee for the annual information session with updates on relevant items. \nSession will be held virtually on Monday May 25th at 7:00pm ET \nMore information on registration and agenda will be available closer to the event.
URL:https://www.sfc-ftc.ca/event/sfc-officials-annual-information-session/
CATEGORIES:Meetings
ORGANIZER;CN="SFC - FTC":MAILTO:admin@sfc-ftc.ca
END:VEVENT
BEGIN:VEVENT
DTSTART;VALUE=DATE:20260715
DTEND;VALUE=DATE:20260720
DTSTAMP:20260423T184542
CREATED:20260407T211907Z
LAST-MODIFIED:20260407T211907Z
UID:10000043-1784073600-1784505599@www.sfc-ftc.ca
SUMMARY:2026 Saskatchewan International Skeet Provincial Championships
DESCRIPTION:  \nThe 2026 Saskatchewan Provincial Championship will be awarded to the top 2 Saskatchewan residents based on finals score.  \nThe final will be an open final. The final will start from 0.  \nISSF licensed referees will be attendance \nSCHEDULE\nWed-Thurs July 15-16\, 2026 –  Open training 12:00-8:00pm  \nFriday July 17\, 2026  – PET 11:00am start  \nSaturday July 18\, 2026  – 75 targets 11:00am start  \nSunday July 19\, 2026  – 50 targets 11:00am start  \nTop eight will make the final. \n Registration will take place in the Clubhouse on Friday afternoon. The draw will be at 4:00pm Friday afternoon. \n 24 gram ammunition will be available at the club. Reloads permitted (24 grams). \nThe event will be run under current ISSF rules.  \nFor more information see the flyer.
URL:https://www.sfc-ftc.ca/event/2026-saskatchewan-international-skeet-provincial-championships/
LOCATION:Saskatoon Gun Club\, Canada
GEO:52.19049635997;-106.30829645648
END:VEVENT
BEGIN:VEVENT
DTSTART;VALUE=DATE:20260729
DTEND;VALUE=DATE:20260803
DTSTAMP:20260423T184542
CREATED:20260226T194553Z
LAST-MODIFIED:20260408T220730Z
UID:10000036-1785283200-1785715199@www.sfc-ftc.ca
SUMMARY:SFC TRAP National Championship
DESCRIPTION:Ontario Olympic Trapshooting Association is partnering with SFC to plan and host the Trap 2026 National Championships at the Toronto International Sport Shooting Centre (TISSC) in Cookstown\, Ontario. \nThe Toronto International Sports Shooting Centre is a Pan Am Legacy facility and is designated by the Shooting Federation of Canada as a National Training and High-Performance Centre. These world class fields are an ideal location to host Canada’s national shotgun championships\, and the organizing committee is committed to delivering a professionally run event. \nPlease review the Match Program for complete details including location\, accommodations\, event schedule\, awards and Letters of Invitation. \nMatch Program    EN      FR\nSchedule of Events  \n                       Saturday\, July 25                                 Open Training \n                       Sunday\, July 26                                   Coast2Coast Event (9am Reg.\, 10am Start) \n                       Monday\, July 27                                 Open Training \n                       Tuesday\, July 28                                  Open Training \n                       Wednesday\, July 29                            PET \n                       Thursday\, July 30                                75 targets \n                       Friday\, July 31                                     50 targets (Meeting/Social & Dinner) \n                       Saturday\, August 1                             75 targets \n                       Sunday\, August 2                               50 targets\, plus Finals \n  \nSFC Membership is required for registration.\nREGISTRATION DEADLINE: Wednesday\, July 15\, 2026. at 1pm EST\nWe hope to see you at the event!\n 
URL:https://www.sfc-ftc.ca/event/sfc-national-championship-trap-reg/
LOCATION:Toronto International Trap & Skeet Club\, 5206 5TH Side Road\, Cookstown\, Ontario\, L0L 1L0\, Canada
CATEGORIES:Competition
ORGANIZER;CN="SFC - FTC":MAILTO:admin@sfc-ftc.ca
END:VEVENT
BEGIN:VEVENT
DTSTART;VALUE=DATE:20260805
DTEND;VALUE=DATE:20260810
DTSTAMP:20260423T184542
CREATED:20260308T181818Z
LAST-MODIFIED:20260408T220640Z
UID:10000038-1785888000-1786319999@www.sfc-ftc.ca
SUMMARY:SFC SKEET National Championships
DESCRIPTION:Ontario Olympic Trapshooting Association is partnering with SFC to plan and host the Skeet 2026 National Championships at the Toronto International Sport Shooting Centre (TISSC) in Cookstown\, Ontario. \nThe Toronto International Sports Shooting Centre is a Pan Am Legacy facility and is designated by the Shooting Federation of Canada as a National Training and High-Performance Centre. These world class fields are an ideal location to host Canada’s national shotgun championships\, and the organizing committee is committed to delivering a professionally run event. \nPlease review the Match Program for complete details including location\, accommodations\, event schedule\, awards and Letters of Invitation. \nMatch Program    EN      FR\nSchedule of Events  \nMonday\, August 3                            Open Training \nTuesday\, August 4                             Open Training \nWednesday\, August 5                       PET (Squadded – 3 rounds) \nThursday\, August 6                            75 Targets \nFriday\, August 7                                 50 Targets (Meeting/Social & Dinner) \nSaturday\, August 8                           75 Targets \nSunday\, August 9                              50 Targets\, plus Finals \n  \nSFC Membership is required for registration.\nREGISTRATION DEADLINE: Monday\, July 20\, 2026. at 1pm EST\nWe hope to see you at the event!\n 
URL:https://www.sfc-ftc.ca/event/sfc-national-championship-skeet-reg/
LOCATION:Toronto International Trap & Skeet Club\, 5206 5TH Side Road\, Cookstown\, Ontario\, L0L 1L0\, Canada
CATEGORIES:Competition
ORGANIZER;CN="SFC - FTC":MAILTO:admin@sfc-ftc.ca
END:VEVENT
BEGIN:VEVENT
DTSTART;VALUE=DATE:20260808
DTEND;VALUE=DATE:20260816
DTSTAMP:20260423T184542
CREATED:20260125T182736Z
LAST-MODIFIED:20260408T220819Z
UID:10000026-1786147200-1786838399@www.sfc-ftc.ca
SUMMARY:SFC National Championship - Pistol & Rifle
DESCRIPTION:Saskatchewan Target Shooting and the Alberta Handgun Association have partnered together to plan and co-host the 2026 Rifle and Pistol SFC National Championships at the Saskatoon Wildlife Federation located fifteen minutes from the Saskatoon airport in Saskatchewan. \nIn addition to the administrative preparation\, the range is undergoing renovations to better suit the event\, including a wind break for the shooting line and is eager to welcome all competitors. \nMatch Program     EN    FR \nSchedule    EN    FR \nClick here to Register Now\nRegistration Deadline – Saturday August 1st 2026
URL:https://www.sfc-ftc.ca/event/sfc-national-championship-pistol-rifle/
LOCATION:Saskatoon Wildlife Federation\, Range Road 3050\, Saskatoon\, Saskatchewan\, S7S 1N8\, Canada
CATEGORIES:Competition
ORGANIZER;CN="SFC - FTC":MAILTO:admin@sfc-ftc.ca
END:VEVENT
BEGIN:VEVENT
DTSTART;TZID=America/Toronto:20260912T120000
DTEND;TZID=America/Toronto:20260912T130000
DTSTAMP:20260423T184542
CREATED:20260125T180237Z
LAST-MODIFIED:20260125T180237Z
UID:10000022-1789214400-1789218000@www.sfc-ftc.ca
SUMMARY:SFC Annual Meeting
DESCRIPTION:The Annual Meeting of the corporation for the Shooting Federation of Canada will be held virtually on Saturday September 12th 2026. \nMembers of the corporation will be sent the notice of the meeting and all supporting information in the month leading up to the meeting as laid out in the By-laws. \nWatch for more details.
URL:https://www.sfc-ftc.ca/event/sfc-annual-meeting/
CATEGORIES:Meetings
ORGANIZER;CN="SFC - FTC":MAILTO:admin@sfc-ftc.ca
END:VEVENT
END:VCALENDAR