BEGIN:VCALENDAR
VERSION:2.0
PRODID:-//SFC | FTC - ECPv6.15.19//NONSGML v1.0//EN
CALSCALE:GREGORIAN
METHOD:PUBLISH
X-WR-CALNAME:SFC | FTC
X-ORIGINAL-URL:https://www.sfc-ftc.ca
X-WR-CALDESC:Events for SFC | FTC
REFRESH-INTERVAL;VALUE=DURATION:PT1H
X-Robots-Tag:noindex
X-PUBLISHED-TTL:PT1H
BEGIN:VTIMEZONE
TZID:America/Toronto
BEGIN:DAYLIGHT
TZOFFSETFROM:-0500
TZOFFSETTO:-0400
TZNAME:EDT
DTSTART:20240310T070000
END:DAYLIGHT
BEGIN:STANDARD
TZOFFSETFROM:-0400
TZOFFSETTO:-0500
TZNAME:EST
DTSTART:20241103T060000
END:STANDARD
BEGIN:DAYLIGHT
TZOFFSETFROM:-0500
TZOFFSETTO:-0400
TZNAME:EDT
DTSTART:20250309T070000
END:DAYLIGHT
BEGIN:STANDARD
TZOFFSETFROM:-0400
TZOFFSETTO:-0500
TZNAME:EST
DTSTART:20251102T060000
END:STANDARD
BEGIN:DAYLIGHT
TZOFFSETFROM:-0500
TZOFFSETTO:-0400
TZNAME:EDT
DTSTART:20260308T070000
END:DAYLIGHT
BEGIN:STANDARD
TZOFFSETFROM:-0400
TZOFFSETTO:-0500
TZNAME:EST
DTSTART:20261101T060000
END:STANDARD
BEGIN:DAYLIGHT
TZOFFSETFROM:-0500
TZOFFSETTO:-0400
TZNAME:EDT
DTSTART:20270314T070000
END:DAYLIGHT
BEGIN:STANDARD
TZOFFSETFROM:-0400
TZOFFSETTO:-0500
TZNAME:EST
DTSTART:20271107T060000
END:STANDARD
END:VTIMEZONE
BEGIN:VTIMEZONE
TZID:America/Vancouver
BEGIN:DAYLIGHT
TZOFFSETFROM:-0800
TZOFFSETTO:-0700
TZNAME:PDT
DTSTART:20240310T100000
END:DAYLIGHT
BEGIN:STANDARD
TZOFFSETFROM:-0700
TZOFFSETTO:-0800
TZNAME:PST
DTSTART:20241103T090000
END:STANDARD
BEGIN:DAYLIGHT
TZOFFSETFROM:-0800
TZOFFSETTO:-0700
TZNAME:PDT
DTSTART:20250309T100000
END:DAYLIGHT
BEGIN:STANDARD
TZOFFSETFROM:-0700
TZOFFSETTO:-0800
TZNAME:PST
DTSTART:20251102T090000
END:STANDARD
BEGIN:DAYLIGHT
TZOFFSETFROM:-0800
TZOFFSETTO:-0700
TZNAME:PDT
DTSTART:20260308T100000
END:DAYLIGHT
BEGIN:STANDARD
TZOFFSETFROM:-0700
TZOFFSETTO:-0800
TZNAME:PST
DTSTART:20261101T090000
END:STANDARD
END:VTIMEZONE
BEGIN:VEVENT
DTSTART;VALUE=DATE:20260116
DTEND;VALUE=DATE:20260119
DTSTAMP:20260423T153952
CREATED:20260109T143431Z
LAST-MODIFIED:20260109T154144Z
UID:10000012-1768521600-1768780799@www.sfc-ftc.ca
SUMMARY:Coaching Course Com-Dev Pistol
DESCRIPTION:Competition Development Pistol Training Course\n(Course will be taught in English) \nThis course will be online. \nComplete course consists of 1 extended weekend (Must attend all of the weekend to be successful) \n\n\n\nFriday January 16th – 7:00pm- 10:00pm ET\nSaturday January 17th – 11:00am – 9:00pm ET\nSunday January 18th – 11:00am – 9:00pm ET\n\n\n\nPlease note: \n\nYou must be certified Pistol IB Coach prior to registering\nYou also need to be a member in good standing of SFC\n\nCost:  $300 (plus processing fees) \nCourse material and Log in for course will be sent via email to all registered participants. \n**** Competition Development guidelines require coaches to work with a high performance athlete for a minimum of 1 year and have completed multi-sport modules prior to evaluation being conducted ****
URL:https://www.sfc-ftc.ca/event/coaching-course-com-dev-pistol/
CATEGORIES:Coaching Courses
ORGANIZER;CN="SFC - FTC":MAILTO:admin@sfc-ftc.ca
LOCATION:https://www.sfc-ftc.ca/event/coaching-course-com-dev-pistol/
END:VEVENT
BEGIN:VEVENT
DTSTART;TZID=America/Toronto:20251117T190000
DTEND;TZID=America/Toronto:20251117T210000
DTSTAMP:20260423T153952
CREATED:20251105T133124Z
LAST-MODIFIED:20251105T133124Z
UID:10000002-1763406000-1763413200@www.sfc-ftc.ca
SUMMARY:Coaching Course - IB Rifle
DESCRIPTION:Instructor Beginner (IB) Rifle Coaching Course\nThe course will require pre-reading & pre-work \nDetails and Fees: \nInstructor Beginner Rifle Course  \nMonday November 17th 7:00 – 9:00pm MT\nMonday November 24th 7:00 – 9:00pm MT\nMonday December 1st 7:00 – 9:00pm MT \nMust attend the entire course \n$150 for the Course and the Manual (Course material will be available once payment has been processed\,  and reading & assignments must be done before course commences.)\nNOTE: SFC Membership is required to register.\nRegistration deadline is November 10th \nAdditional information:\nThis  workshop is tailored for coaches of athletes who wish to equip themselves with fundamental shooting coaching knowledge. The workshop focuses on planning\, safety\, basic teaching and learning theory\, as well as preparing coaches to analyze shooting skills. Trainees have to complete exercises and read some part of their manual between sessions. \nAn in-person session (3 hours) with a facilitator is required for the final evaluation. (There will be a $75 fee for evaluation). \nMore about more coaching pathways here \nCe cours sera offert en anglais.
URL:https://www.sfc-ftc.ca/event/coaching-course-ib-rifle/
CATEGORIES:Coaching Courses
ORGANIZER;CN="SFC - FTC":MAILTO:admin@sfc-ftc.ca
END:VEVENT
BEGIN:VEVENT
DTSTART;TZID=America/Vancouver:20251109T170000
DTEND;TZID=America/Vancouver:20251109T200000
DTSTAMP:20260423T153952
CREATED:20251103T194446Z
LAST-MODIFIED:20251106T135502Z
UID:10000004-1762707600-1762718400@www.sfc-ftc.ca
SUMMARY:2025 George Hutcheson Hibernation Match
DESCRIPTION:The competition will be held at the Richmond Rod and Gun Club\, located at: 7400 River Rd Suite 140\, Richmond BC\, Canada \n\nEquipped with 16 SIUS Electronic Targets\nWheelchair accessible\nfree parking available on site\n\nMatch Start Times \n\nThe start times listed on the schedule refer to the time of the first SCORING shot\, per ISSF Rule 6.11.1.1\nPreparation and Sighting Time begin 15 minutes prior to the published start time\n\nRules \n\nCurrent Shooting Federation of Canada (SFC) and International Shooting Sport Federation (ISSF) rules will apply\nIt is the responsibility of all participants to be familiar with these rules\nThe Organizing Committee reserves the right to modify the schedule or procedures based on conditions\n\nEligibility \n\nValid BCTSA membership or membership in your respective provincial or state shooting organization is required\nOut-of-province athletes are welcome and may participate\n\nEquipment Control \n\nAll equipment must comply with current ISSF specifications\nEquipment will be inspected during designated control periods and may be re-checked during competition\n\nNote: Equipment check MUST be conducted on Friday\, November 7 between 5:00pm and 8:00pm \nProtests & Scoring Challenges \n\nScoring challenge fee: $5.00\nProtests will be handled by the Jury. The Jury’s decisions are final\n\nEvents & Courses of Fire \nAll events take place at 10 meters (standing position unless noted): \n\nAir Rifle – Men / Junior Men: 2 × 60 shots\nAir Rifle – Women / Junior Women: 2 × 60 shots\nAir Pistol – Men / Junior Men: 2 × 60 shots\nAir Pistol – Women / Junior Women: 2 × 60 shots\n\nAwards \nAwards will be presented in the following categories: \n\nJunior Awards\nClassification Awards (MA\, VT\, EX\, SS\, MM\, LADY)\n\nNote: Awards will be presented after the final relay has been completed \nClassifications & Categories \n\nAll athletes must register according to their official SFC classification\nProof of classification must be presented at check-in\nNRA/USA Shooting classifications are not accepted\nShooters without a current classification will compete as Expert (EX)\nFalsifying classification may result in disqualification without refund\n\nAge Categories \n\nSub Junior (SJ): Until December 31 of the year they turn 16\nJunior (JR): From January 1 of the year following their 16th birthday\, until December 31 of the year they turn 21\nVeteran (VT): Must be 55 or older on the first day of competition\n\nVeterans may use older equipment (if no longer active competitors)\, but scopes are not allowed \nREGISTRATION FORM – Please CLICK HERE
URL:https://www.sfc-ftc.ca/event/2025-george-hutcheson-hibernation-match/2025-11-09/
LOCATION:Richmond Rod & Gun Club\, 7400 River Road\, Richmond\, BC\, V6X 1X6\, Canada
CATEGORIES:Competition
END:VEVENT
BEGIN:VEVENT
DTSTART;TZID=America/Vancouver:20251108T170000
DTEND;TZID=America/Vancouver:20251108T200000
DTSTAMP:20260423T153952
CREATED:20251103T194446Z
LAST-MODIFIED:20251106T135502Z
UID:10000003-1762621200-1762632000@www.sfc-ftc.ca
SUMMARY:2025 George Hutcheson Hibernation Match
DESCRIPTION:The competition will be held at the Richmond Rod and Gun Club\, located at: 7400 River Rd Suite 140\, Richmond BC\, Canada \n\nEquipped with 16 SIUS Electronic Targets\nWheelchair accessible\nfree parking available on site\n\nMatch Start Times \n\nThe start times listed on the schedule refer to the time of the first SCORING shot\, per ISSF Rule 6.11.1.1\nPreparation and Sighting Time begin 15 minutes prior to the published start time\n\nRules \n\nCurrent Shooting Federation of Canada (SFC) and International Shooting Sport Federation (ISSF) rules will apply\nIt is the responsibility of all participants to be familiar with these rules\nThe Organizing Committee reserves the right to modify the schedule or procedures based on conditions\n\nEligibility \n\nValid BCTSA membership or membership in your respective provincial or state shooting organization is required\nOut-of-province athletes are welcome and may participate\n\nEquipment Control \n\nAll equipment must comply with current ISSF specifications\nEquipment will be inspected during designated control periods and may be re-checked during competition\n\nNote: Equipment check MUST be conducted on Friday\, November 7 between 5:00pm and 8:00pm \nProtests & Scoring Challenges \n\nScoring challenge fee: $5.00\nProtests will be handled by the Jury. The Jury’s decisions are final\n\nEvents & Courses of Fire \nAll events take place at 10 meters (standing position unless noted): \n\nAir Rifle – Men / Junior Men: 2 × 60 shots\nAir Rifle – Women / Junior Women: 2 × 60 shots\nAir Pistol – Men / Junior Men: 2 × 60 shots\nAir Pistol – Women / Junior Women: 2 × 60 shots\n\nAwards \nAwards will be presented in the following categories: \n\nJunior Awards\nClassification Awards (MA\, VT\, EX\, SS\, MM\, LADY)\n\nNote: Awards will be presented after the final relay has been completed \nClassifications & Categories \n\nAll athletes must register according to their official SFC classification\nProof of classification must be presented at check-in\nNRA/USA Shooting classifications are not accepted\nShooters without a current classification will compete as Expert (EX)\nFalsifying classification may result in disqualification without refund\n\nAge Categories \n\nSub Junior (SJ): Until December 31 of the year they turn 16\nJunior (JR): From January 1 of the year following their 16th birthday\, until December 31 of the year they turn 21\nVeteran (VT): Must be 55 or older on the first day of competition\n\nVeterans may use older equipment (if no longer active competitors)\, but scopes are not allowed \nREGISTRATION FORM – Please CLICK HERE
URL:https://www.sfc-ftc.ca/event/2025-george-hutcheson-hibernation-match/2025-11-08/
LOCATION:Richmond Rod & Gun Club\, 7400 River Road\, Richmond\, BC\, V6X 1X6\, Canada
CATEGORIES:Competition
END:VEVENT
BEGIN:VEVENT
DTSTART;TZID=America/Vancouver:20251107T170000
DTEND;TZID=America/Vancouver:20251107T200000
DTSTAMP:20260423T153952
CREATED:20251103T194446Z
LAST-MODIFIED:20251106T135502Z
UID:10000001-1762534800-1762545600@www.sfc-ftc.ca
SUMMARY:2025 George Hutcheson Hibernation Match
DESCRIPTION:The competition will be held at the Richmond Rod and Gun Club\, located at: 7400 River Rd Suite 140\, Richmond BC\, Canada \n\nEquipped with 16 SIUS Electronic Targets\nWheelchair accessible\nfree parking available on site\n\nMatch Start Times \n\nThe start times listed on the schedule refer to the time of the first SCORING shot\, per ISSF Rule 6.11.1.1\nPreparation and Sighting Time begin 15 minutes prior to the published start time\n\nRules \n\nCurrent Shooting Federation of Canada (SFC) and International Shooting Sport Federation (ISSF) rules will apply\nIt is the responsibility of all participants to be familiar with these rules\nThe Organizing Committee reserves the right to modify the schedule or procedures based on conditions\n\nEligibility \n\nValid BCTSA membership or membership in your respective provincial or state shooting organization is required\nOut-of-province athletes are welcome and may participate\n\nEquipment Control \n\nAll equipment must comply with current ISSF specifications\nEquipment will be inspected during designated control periods and may be re-checked during competition\n\nNote: Equipment check MUST be conducted on Friday\, November 7 between 5:00pm and 8:00pm \nProtests & Scoring Challenges \n\nScoring challenge fee: $5.00\nProtests will be handled by the Jury. The Jury’s decisions are final\n\nEvents & Courses of Fire \nAll events take place at 10 meters (standing position unless noted): \n\nAir Rifle – Men / Junior Men: 2 × 60 shots\nAir Rifle – Women / Junior Women: 2 × 60 shots\nAir Pistol – Men / Junior Men: 2 × 60 shots\nAir Pistol – Women / Junior Women: 2 × 60 shots\n\nAwards \nAwards will be presented in the following categories: \n\nJunior Awards\nClassification Awards (MA\, VT\, EX\, SS\, MM\, LADY)\n\nNote: Awards will be presented after the final relay has been completed \nClassifications & Categories \n\nAll athletes must register according to their official SFC classification\nProof of classification must be presented at check-in\nNRA/USA Shooting classifications are not accepted\nShooters without a current classification will compete as Expert (EX)\nFalsifying classification may result in disqualification without refund\n\nAge Categories \n\nSub Junior (SJ): Until December 31 of the year they turn 16\nJunior (JR): From January 1 of the year following their 16th birthday\, until December 31 of the year they turn 21\nVeteran (VT): Must be 55 or older on the first day of competition\n\nVeterans may use older equipment (if no longer active competitors)\, but scopes are not allowed \nREGISTRATION FORM – Please CLICK HERE
URL:https://www.sfc-ftc.ca/event/2025-george-hutcheson-hibernation-match/2025-11-07/
LOCATION:Richmond Rod & Gun Club\, 7400 River Road\, Richmond\, BC\, V6X 1X6\, Canada
CATEGORIES:Competition
END:VEVENT
END:VCALENDAR