BEGIN:VCALENDAR
VERSION:2.0
PRODID:-//SFC | FTC - ECPv6.15.19//NONSGML v1.0//EN
CALSCALE:GREGORIAN
METHOD:PUBLISH
X-WR-CALNAME:SFC | FTC
X-ORIGINAL-URL:https://www.sfc-ftc.ca
X-WR-CALDESC:Events for SFC | FTC
REFRESH-INTERVAL;VALUE=DURATION:PT1H
X-Robots-Tag:noindex
X-PUBLISHED-TTL:PT1H
BEGIN:VTIMEZONE
TZID:America/Toronto
BEGIN:DAYLIGHT
TZOFFSETFROM:-0500
TZOFFSETTO:-0400
TZNAME:EDT
DTSTART:20250309T070000
END:DAYLIGHT
BEGIN:STANDARD
TZOFFSETFROM:-0400
TZOFFSETTO:-0500
TZNAME:EST
DTSTART:20251102T060000
END:STANDARD
BEGIN:DAYLIGHT
TZOFFSETFROM:-0500
TZOFFSETTO:-0400
TZNAME:EDT
DTSTART:20260308T070000
END:DAYLIGHT
BEGIN:STANDARD
TZOFFSETFROM:-0400
TZOFFSETTO:-0500
TZNAME:EST
DTSTART:20261101T060000
END:STANDARD
BEGIN:DAYLIGHT
TZOFFSETFROM:-0500
TZOFFSETTO:-0400
TZNAME:EDT
DTSTART:20270314T070000
END:DAYLIGHT
BEGIN:STANDARD
TZOFFSETFROM:-0400
TZOFFSETTO:-0500
TZNAME:EST
DTSTART:20271107T060000
END:STANDARD
END:VTIMEZONE
BEGIN:VEVENT
DTSTART;VALUE=DATE:20260715
DTEND;VALUE=DATE:20260720
DTSTAMP:20260423T111629
CREATED:20260407T211907Z
LAST-MODIFIED:20260407T211907Z
UID:10000043-1784073600-1784505599@www.sfc-ftc.ca
SUMMARY:2026 Saskatchewan International Skeet Provincial Championships
DESCRIPTION:  \nThe 2026 Saskatchewan Provincial Championship will be awarded to the top 2 Saskatchewan residents based on finals score.  \nThe final will be an open final. The final will start from 0.  \nISSF licensed referees will be attendance \nSCHEDULE\nWed-Thurs July 15-16\, 2026 –  Open training 12:00-8:00pm  \nFriday July 17\, 2026  – PET 11:00am start  \nSaturday July 18\, 2026  – 75 targets 11:00am start  \nSunday July 19\, 2026  – 50 targets 11:00am start  \nTop eight will make the final. \n Registration will take place in the Clubhouse on Friday afternoon. The draw will be at 4:00pm Friday afternoon. \n 24 gram ammunition will be available at the club. Reloads permitted (24 grams). \nThe event will be run under current ISSF rules.  \nFor more information see the flyer.
URL:https://www.sfc-ftc.ca/event/2026-saskatchewan-international-skeet-provincial-championships/
LOCATION:Saskatoon Gun Club\, Canada
GEO:52.19049635997;-106.30829645648
END:VEVENT
BEGIN:VEVENT
DTSTART;VALUE=DATE:20260729
DTEND;VALUE=DATE:20260803
DTSTAMP:20260423T111629
CREATED:20260226T194553Z
LAST-MODIFIED:20260408T220730Z
UID:10000036-1785283200-1785715199@www.sfc-ftc.ca
SUMMARY:SFC TRAP National Championship
DESCRIPTION:Ontario Olympic Trapshooting Association is partnering with SFC to plan and host the Trap 2026 National Championships at the Toronto International Sport Shooting Centre (TISSC) in Cookstown\, Ontario. \nThe Toronto International Sports Shooting Centre is a Pan Am Legacy facility and is designated by the Shooting Federation of Canada as a National Training and High-Performance Centre. These world class fields are an ideal location to host Canada’s national shotgun championships\, and the organizing committee is committed to delivering a professionally run event. \nPlease review the Match Program for complete details including location\, accommodations\, event schedule\, awards and Letters of Invitation. \nMatch Program    EN      FR\nSchedule of Events  \n                       Saturday\, July 25                                 Open Training \n                       Sunday\, July 26                                   Coast2Coast Event (9am Reg.\, 10am Start) \n                       Monday\, July 27                                 Open Training \n                       Tuesday\, July 28                                  Open Training \n                       Wednesday\, July 29                            PET \n                       Thursday\, July 30                                75 targets \n                       Friday\, July 31                                     50 targets (Meeting/Social & Dinner) \n                       Saturday\, August 1                             75 targets \n                       Sunday\, August 2                               50 targets\, plus Finals \n  \nSFC Membership is required for registration.\nREGISTRATION DEADLINE: Wednesday\, July 15\, 2026. at 1pm EST\nWe hope to see you at the event!\n 
URL:https://www.sfc-ftc.ca/event/sfc-national-championship-trap-reg/
LOCATION:Toronto International Trap & Skeet Club\, 5206 5TH Side Road\, Cookstown\, Ontario\, L0L 1L0\, Canada
CATEGORIES:Competition
ORGANIZER;CN="SFC - FTC":MAILTO:admin@sfc-ftc.ca
END:VEVENT
END:VCALENDAR